BEGIN:VCALENDAR
VERSION:2.0
PRODID:-//山形市市民活動支援センター - ECPv4.6.24.1//NONSGML v1.0//EN
CALSCALE:GREGORIAN
METHOD:PUBLISH
X-WR-CALNAME:山形市市民活動支援センター
X-ORIGINAL-URL:https://www.yamagata-npo.jp
X-WR-CALDESC:Events for 山形市市民活動支援センター
BEGIN:VEVENT
DTSTART;TZID=Asia/Tokyo:20241013T100000
DTEND;TZID=Asia/Tokyo:20241013T150000
DTSTAMP:20260419T231224
CREATED:20240925T045413Z
LAST-MODIFIED:20240925T045650Z
UID:39453-1728813600-1728831600@www.yamagata-npo.jp
SUMMARY:第１７回　ヌマリンピック　天童市西沼田遺跡公園
DESCRIPTION:\nチラシのダウンロードはこちらから（PDF） \n  \n
URL:https://www.yamagata-npo.jp/event/39453
LOCATION:天童市西沼田遺跡公園\, 天童市大字矢野目3295\, 山形県\, 9940071\, 日本
CATEGORIES:団体主催
ATTACH;FMTTYPE=image/jpeg:https://www.yamagata-npo.jp/wp/wp-content/uploads/20240925134147-e1727239617173.jpeg
END:VEVENT
END:VCALENDAR