BEGIN:VCALENDAR
VERSION:2.0
PRODID:-//山形市市民活動支援センター - ECPv4.6.24.1//NONSGML v1.0//EN
CALSCALE:GREGORIAN
METHOD:PUBLISH
X-WR-CALNAME:山形市市民活動支援センター
X-ORIGINAL-URL:https://www.yamagata-npo.jp
X-WR-CALDESC:Events for 山形市市民活動支援センター
BEGIN:VEVENT
DTSTART;TZID=Asia/Tokyo:20241119T133000
DTEND;TZID=Asia/Tokyo:20241119T163000
DTSTAMP:20260419T180052
CREATED:20241003T060922Z
LAST-MODIFIED:20241003T060922Z
UID:39516-1732023000-1732033800@www.yamagata-npo.jp
SUMMARY:令和６年度山形県委託事業　外国人雇用に関する事業者向け無料相談会
DESCRIPTION: \nチラシはこちらからダウンロード出来ます（PDF形式） \n
URL:https://www.yamagata-npo.jp/event/39516
LOCATION:山形県国際交流センターサロン\, 山形市城南町1-1-1　霞城セントラル２階
CATEGORIES:団体主催
ATTACH;FMTTYPE=application/pdf:https://www.yamagata-npo.jp/wp/wp-content/uploads/20241003145023-2.pdf
END:VEVENT
END:VCALENDAR