BEGIN:VCALENDAR
VERSION:2.0
PRODID:-//山形市市民活動支援センター - ECPv4.6.24.1//NONSGML v1.0//EN
CALSCALE:GREGORIAN
METHOD:PUBLISH
X-WR-CALNAME:山形市市民活動支援センター
X-ORIGINAL-URL:https://www.yamagata-npo.jp
X-WR-CALDESC:Events for 山形市市民活動支援センター
BEGIN:VEVENT
DTSTART;TZID=Asia/Tokyo:20241120T180000
DTEND;TZID=Asia/Tokyo:20241120T193000
DTSTAMP:20260419T180901
CREATED:20241005T034502Z
LAST-MODIFIED:20241005T034502Z
UID:39947-1732125600-1732131000@www.yamagata-npo.jp
SUMMARY:＜多文化子育てカフェ＞日本語と子育てを学ぼう！
DESCRIPTION:チラシはこちらよりダウンロードできます（PDF形式） \n
URL:https://www.yamagata-npo.jp/event/39947
LOCATION:山形市男女共同参画センター　５階視聴覚室\, 山形市城西町2-2-22\, 山形市
CATEGORIES:団体主催
ATTACH;FMTTYPE=application/pdf:https://www.yamagata-npo.jp/wp/wp-content/uploads/20241005123459-3.pdf
ORGANIZER;CN="%E5%85%AC%E7%9B%8A%E8%B2%A1%E5%9B%A3%E6%B3%95%E4%BA%BA%E5%B1%B1%E5%BD%A2%E7%9C%8C%E5%9B%BD%E9%9A%9B%E4%BA%A4%E6%B5%81%E5%8D%94%E4%BC%9A%EF%BC%88AIRY%EF%BC%89":MAILTO:info@airyamagata.org
END:VEVENT
END:VCALENDAR