BEGIN:VCALENDAR
VERSION:2.0
PRODID:-//山形市市民活動支援センター - ECPv4.6.24.1//NONSGML v1.0//EN
CALSCALE:GREGORIAN
METHOD:PUBLISH
X-WR-CALNAME:山形市市民活動支援センター
X-ORIGINAL-URL:https://www.yamagata-npo.jp
X-WR-CALDESC:Events for 山形市市民活動支援センター
BEGIN:VEVENT
DTSTART;TZID=Asia/Tokyo:20241121T133000
DTEND;TZID=Asia/Tokyo:20241121T160000
DTSTAMP:20260419T211548
CREATED:20241022T053250Z
LAST-MODIFIED:20241022T053250Z
UID:40424-1732195800-1732204800@www.yamagata-npo.jp
SUMMARY:骨髄バンクボランティア　ドナー登録説明員研修会
DESCRIPTION:チラシはこちらよりダウンロードできます（PDF形式） \n
URL:https://www.yamagata-npo.jp/event/40424
LOCATION:山形県庁12階　1201会議室\, 山形県山形市松波2-8-1
CATEGORIES:団体主催
ATTACH;FMTTYPE=image/jpeg:https://www.yamagata-npo.jp/wp/wp-content/uploads/d1b768d5277e28d24b2aa576216b72c0.jpg
ORGANIZER;CN="%E5%B1%B1%E5%BD%A2%E7%9C%8C%E5%81%A5%E5%BA%B7%E7%A6%8F%E7%A5%89%E9%83%A8%E5%8C%BB%E7%99%82%E6%94%BF%E7%AD%96%E8%AA%B2%E3%80%80%E5%9C%B0%E5%9F%9F%E5%8C%BB%E7%99%82%E5%AF%BE%E7%AD%96%E6%8B%85%E5%BD%93":MAILTO:yiryoseisaku@pref.yamagata.jp
END:VEVENT
END:VCALENDAR