BEGIN:VCALENDAR
VERSION:2.0
PRODID:-//山形市市民活動支援センター - ECPv4.6.24.1//NONSGML v1.0//EN
CALSCALE:GREGORIAN
METHOD:PUBLISH
X-WR-CALNAME:山形市市民活動支援センター
X-ORIGINAL-URL:https://www.yamagata-npo.jp
X-WR-CALDESC:Events for 山形市市民活動支援センター
BEGIN:VEVENT
DTSTART;TZID=Asia/Tokyo:20250828T090000
DTEND;TZID=Asia/Tokyo:20250828T160000
DTSTAMP:20260420T125235
CREATED:20250415T045144Z
LAST-MODIFIED:20250415T045144Z
UID:43872-1756371600-1756396800@www.yamagata-npo.jp
SUMMARY:令和７年度 次世代人材育成事業 ユースリーダー養成講座　第３回
DESCRIPTION:チラシはこちらからダウンロードできます。\nユースリーダー養成講座　チラシ（PDF形式） \n
URL:https://www.yamagata-npo.jp/event/43872
LOCATION:山形県生涯学習センター遊学館　２階学習室\, 緑町1-2-36\, 山形市\, 山形県\, 990-0041\, 日本
CATEGORIES:団体主催
ATTACH;FMTTYPE=image/jpeg:https://www.yamagata-npo.jp/wp/wp-content/uploads/61f64a618f09f0ec1defdc9bd0ff8a33-scaled.jpg
END:VEVENT
END:VCALENDAR