BEGIN:VCALENDAR
VERSION:2.0
PRODID:-//山形市市民活動支援センター - ECPv4.6.24.1//NONSGML v1.0//EN
CALSCALE:GREGORIAN
METHOD:PUBLISH
X-WR-CALNAME:山形市市民活動支援センター
X-ORIGINAL-URL:https://www.yamagata-npo.jp
X-WR-CALDESC:Events for 山形市市民活動支援センター
BEGIN:VEVENT
DTSTART;TZID=Asia/Tokyo:20250827T100000
DTEND;TZID=Asia/Tokyo:20250827T120000
DTSTAMP:20260420T143100
CREATED:20250703T050102Z
LAST-MODIFIED:20250703T050150Z
UID:45323-1756288800-1756296000@www.yamagata-npo.jp
SUMMARY:これだけは知っておこう！働くママの基礎知識 お金とキャリアアップ
DESCRIPTION:・働くママの基礎知識チラシ（PDF形式） \n
URL:https://www.yamagata-npo.jp/event/45323
LOCATION:ハローワークプラザやまがた内　セミナールーム\, 双葉町1-2-3\, 山形市\, 山形県\, 9900828
CATEGORIES:団体主催
ATTACH;FMTTYPE=image/jpeg:https://www.yamagata-npo.jp/wp/wp-content/uploads/348e83551d3ecf726df9161637ececd0.jpeg
END:VEVENT
END:VCALENDAR