BEGIN:VCALENDAR
VERSION:2.0
PRODID:-//山形市市民活動支援センター - ECPv4.6.24.1//NONSGML v1.0//EN
CALSCALE:GREGORIAN
METHOD:PUBLISH
X-WR-CALNAME:山形市市民活動支援センター
X-ORIGINAL-URL:https://www.yamagata-npo.jp
X-WR-CALDESC:Events for 山形市市民活動支援センター
BEGIN:VEVENT
DTSTART;TZID=Asia/Tokyo:20250826T180000
DTEND;TZID=Asia/Tokyo:20250826T193000
DTSTAMP:20260420T160203
CREATED:20250729T095908Z
LAST-MODIFIED:20250729T100018Z
UID:45728-1756231200-1756236600@www.yamagata-npo.jp
SUMMARY:業務改善DX講座　オープンソース ノーコード・ローコードツール「プリザンター®」セミナー
DESCRIPTION:チラシのダウンロードはこちらから（PDF） \n詳細は下記Webサイトをご覧ください（外部サイト）\nhttps://pugyamagata.connpass.com/event/363121/ \n
URL:https://www.yamagata-npo.jp/event/45728
LOCATION:山形市市民活動支援センター会議室A\, 城南町１－１－１\, 山形市\, 山形県\, 990-8580\, 日本
CATEGORIES:団体主催
ATTACH;FMTTYPE=image/png:https://www.yamagata-npo.jp/wp/wp-content/uploads/26c49b51ec9374255d5f16840105d8f3.png
END:VEVENT
END:VCALENDAR