BEGIN:VCALENDAR
VERSION:2.0
PRODID:-//山形市市民活動支援センター - ECPv4.6.24.1//NONSGML v1.0//EN
CALSCALE:GREGORIAN
METHOD:PUBLISH
X-WR-CALNAME:山形市市民活動支援センター
X-ORIGINAL-URL:https://www.yamagata-npo.jp
X-WR-CALDESC:Events for 山形市市民活動支援センター
BEGIN:VEVENT
DTSTART;TZID=Asia/Tokyo:20250830T100000
DTEND;TZID=Asia/Tokyo:20250830T120000
DTSTAMP:20260422T084033
CREATED:20250731T010125Z
LAST-MODIFIED:20250731T010125Z
UID:45737-1756548000-1756555200@www.yamagata-npo.jp
SUMMARY:～大切な命を守るため～いざという時に役立つ防災と応急手当
DESCRIPTION:・チラシはこちらから⇒防災講座 チラシ（PDF形式） \n・申し込みフォームはこちらから（外部サイトへリンク） \n
URL:https://www.yamagata-npo.jp/event/45737
LOCATION:山形市男女共同参画センター　ファーラ　５階　視聴覚室・研修室２\, 山形市城西町２丁目２−２２
CATEGORIES:団体主催
ATTACH;FMTTYPE=image/jpeg:https://www.yamagata-npo.jp/wp/wp-content/uploads/7638fae6842e721599f3d8811f16defa.jpeg
END:VEVENT
END:VCALENDAR