BEGIN:VCALENDAR
VERSION:2.0
PRODID:-//山形市市民活動支援センター - ECPv4.6.24.1//NONSGML v1.0//EN
CALSCALE:GREGORIAN
METHOD:PUBLISH
X-WR-CALNAME:山形市市民活動支援センター
X-ORIGINAL-URL:https://www.yamagata-npo.jp
X-WR-CALDESC:Events for 山形市市民活動支援センター
BEGIN:VEVENT
DTSTART;TZID=Asia/Tokyo:20251206T180000
DTEND;TZID=Asia/Tokyo:20251206T200000
DTSTAMP:20260423T130554
CREATED:20251015T003039Z
LAST-MODIFIED:20251028T061846Z
UID:46774-1765044000-1765051200@www.yamagata-npo.jp
SUMMARY:ＮＰＯ映画塾～ドキュメンタリー映画で考える社会課題～
DESCRIPTION:\nチラシ（PDF）はこちらから \n申込みは下記Googleフォームから（１１/1より開始）\nhttps://forms.gle/ihQ5uFtQmgu4siph8 \n
URL:https://www.yamagata-npo.jp/event/46774
LOCATION:山形市市民活動支援センター　２３階　高度情報会議室\, 山形市城南町1-1-1　霞城セントラル23階\, 山形市\, 山形県\, 9908580\, 日本
CATEGORIES:センター主催
ATTACH;FMTTYPE=image/jpeg:https://www.yamagata-npo.jp/wp/wp-content/uploads/43df8b77ae08f65baa8ace315c8b6996-1.jpg
ORGANIZER;CN="%E5%B1%B1%E5%BD%A2%E5%B8%82%E5%B8%82%E6%B0%91%E6%B4%BB%E5%8B%95%E6%94%AF%E6%8F%B4%E3%82%BB%E3%83%B3%E3%82%BF%E3%83%BC":MAILTO:center@yamagata-npo.jp
END:VEVENT
END:VCALENDAR