BEGIN:VCALENDAR
VERSION:2.0
PRODID:-//山形市市民活動支援センター - ECPv4.6.24.1//NONSGML v1.0//EN
CALSCALE:GREGORIAN
METHOD:PUBLISH
X-WR-CALNAME:山形市市民活動支援センター
X-ORIGINAL-URL:https://www.yamagata-npo.jp
X-WR-CALDESC:Events for 山形市市民活動支援センター
BEGIN:VEVENT
DTSTART;TZID=Asia/Tokyo:20251216T140000
DTEND;TZID=Asia/Tokyo:20251216T180000
DTSTAMP:20260419T165549
CREATED:20251120T043950Z
LAST-MODIFIED:20251120T043950Z
UID:47784-1765893600-1765908000@www.yamagata-npo.jp
SUMMARY:NPO・市民活動なんでも相談会（酒田会場）
DESCRIPTION:チラシはこちら→NPO・市民活動なんでも相談会 （PDF形式） \n
URL:https://www.yamagata-npo.jp/event/47784
LOCATION:酒田市交流ひろば\, 酒田市\, 山形県
CATEGORIES:団体主催
ATTACH;FMTTYPE=image/jpeg:https://www.yamagata-npo.jp/wp/wp-content/uploads/bef58e8fb97593c7263efc013de1f5db.jpeg
END:VEVENT
END:VCALENDAR