BEGIN:VCALENDAR
VERSION:2.0
PRODID:-//山形市市民活動支援センター - ECPv4.6.24.1//NONSGML v1.0//EN
CALSCALE:GREGORIAN
METHOD:PUBLISH
X-WR-CALNAME:山形市市民活動支援センター
X-ORIGINAL-URL:https://www.yamagata-npo.jp
X-WR-CALDESC:Events for 山形市市民活動支援センター
BEGIN:VEVENT
DTSTART;TZID=Asia/Tokyo:20260217T100000
DTEND;TZID=Asia/Tokyo:20260217T190000
DTSTAMP:20260420T125221
CREATED:20260122T044602Z
LAST-MODIFIED:20260122T044602Z
UID:48500-1771322400-1771354800@www.yamagata-npo.jp
SUMMARY:アートツリーやまがたVol.14
DESCRIPTION:チラシはこちら→アートツリーやまがた（PDF形式） \n
URL:https://www.yamagata-npo.jp/event/48500
LOCATION:寒河江市立美術館　フローラ・SAGAE 3階\, 寒河江市本町2-8-3
CATEGORIES:団体主催
ATTACH;FMTTYPE=image/jpeg:https://www.yamagata-npo.jp/wp/wp-content/uploads/20260122131504.jpeg
END:VEVENT
END:VCALENDAR