BEGIN:VCALENDAR
VERSION:2.0
PRODID:-//山形市市民活動支援センター - ECPv4.6.24.1//NONSGML v1.0//EN
CALSCALE:GREGORIAN
METHOD:PUBLISH
X-WR-CALNAME:山形市市民活動支援センター
X-ORIGINAL-URL:https://www.yamagata-npo.jp
X-WR-CALDESC:Events for 山形市市民活動支援センター
BEGIN:VEVENT
DTSTART;TZID=Asia/Tokyo:20260315T100000
DTEND;TZID=Asia/Tokyo:20260315T120000
DTSTAMP:20260420T083117
CREATED:20260314T064605Z
LAST-MODIFIED:20260314T064605Z
UID:49398-1773568800-1773576000@www.yamagata-npo.jp
SUMMARY:野良猫の相談会
DESCRIPTION:このチラシはこちらからダウンロードできます。（pdf形式） \n  \n
URL:https://www.yamagata-npo.jp/event/49398
LOCATION:山形市市民活動支援センター　会議室B\, 城南町1-1-1\, 山形市\, 山形県\, 日本
CATEGORIES:団体主催
ATTACH;FMTTYPE=image/jpeg:https://www.yamagata-npo.jp/wp/wp-content/uploads/9c3e4b5c827daeab81b870a686ff01a7-scaled-2.jpg
END:VEVENT
END:VCALENDAR