BEGIN:VCALENDAR
VERSION:2.0
PRODID:-//山形市市民活動支援センター - ECPv4.6.24.1//NONSGML v1.0//EN
CALSCALE:GREGORIAN
METHOD:PUBLISH
X-WR-CALNAME:山形市市民活動支援センター
X-ORIGINAL-URL:https://www.yamagata-npo.jp
X-WR-CALDESC:Events for 山形市市民活動支援センター
BEGIN:VEVENT
DTSTART;TZID=Asia/Tokyo:20260617T100000
DTEND;TZID=Asia/Tokyo:20260617T120000
DTSTAMP:20260424T133021
CREATED:20260424T055410Z
LAST-MODIFIED:20260424T064716Z
UID:50273-1781690400-1781697600@www.yamagata-npo.jp
SUMMARY:市民活動のためのはじめてのAI　～正しく活用するための基礎知識～
DESCRIPTION:  \n \n  \nチラシはこちらからダウンロード出来ます（PDF形式） \n申込用紙はこちらからダウンロード出来ます（Word形式） \n
URL:https://www.yamagata-npo.jp/event/50273
LOCATION:山形市市民活動支援センター　会議室B\, 城南町1-1-1　霞城セントラル\, 山形市\, 山形県\, 9908580\, 日本
CATEGORIES:センター主催
ATTACH;FMTTYPE=image/jpeg:https://www.yamagata-npo.jp/wp/wp-content/uploads/7a946caa8de903de29c969efdf87d800.jpg
ORGANIZER;CN="%E5%B1%B1%E5%BD%A2%E5%B8%82%E5%B8%82%E6%B0%91%E6%B4%BB%E5%8B%95%E6%94%AF%E6%8F%B4%E3%82%BB%E3%83%B3%E3%82%BF%E3%83%BC":MAILTO:center@yamagata-npo.jp
END:VEVENT
END:VCALENDAR