BEGIN:VCALENDAR
VERSION:2.0
PRODID:-//山形市市民活動支援センター - ECPv4.6.24.1//NONSGML v1.0//EN
CALSCALE:GREGORIAN
METHOD:PUBLISH
X-WR-CALNAME:山形市市民活動支援センター
X-ORIGINAL-URL:https://www.yamagata-npo.jp
X-WR-CALDESC:Events for 山形市市民活動支援センター
BEGIN:VEVENT
DTSTART;VALUE=DATE:20180916
DTEND;VALUE=DATE:20180917
DTSTAMP:20260419T222336
CREATED:20180302T062346Z
LAST-MODIFIED:20180303T125155Z
UID:9177-1537056000-1537142399@www.yamagata-npo.jp
SUMMARY:葉っぱ塾・安全登山入門編2018
DESCRIPTION:山を学び、山で遊ぶ！\n山ガール・山ボーイも集まれ！\n葉っぱ塾・安全登山入門編2018 \n「葉っぱ塾」では、これから山歩きを始めようという初心者のみなさん、あるいは山についてのしっかりした知識を身につけようという方々向けに、安全で安心な登山を楽しむための連続講座を企画しました。学ぶことで、山の楽しさが２倍にも３倍にも膨らみます。危険も多い登山での安全確保や健康増進についても学びましょう。さらに、山好きな仲間に出会う機会が増えることにもつながります。\n初夏から秋にかけて５回の机上講習と、２回の実践登山と組み合わせて、基本的なことから学んでゆきます。多くの皆様の参加をお待ちしています。 \n１．主催　　 葉っぱ塾　（http://blog.livedoor.jp/happajuku/） \n２．開講日　　２０１８年５月～９月（各月１回の木曜日）午後６時４５分～８時４５分\n※ただし実践登山を６月及び９月の２回計画しています。 \n３．会場　　 山形県緑町庭園文化学習施設「洗心庵」　（最終回のみ別会場に）\n〒990-0041 山形県山形市緑町1丁目4番28号　TEL.023-664-2800\n※駐車場については、受講決定者に別途お知らせいたします。 \n４．講師　　　 　葉っぱ塾・八木文明（日本山岳ガイド協会認定登山ガイドステージⅡ） \n５．参加費 机上講習　各回１０００円 （※参加当日、会場で納入してください。）\n（ただし実践登山の参加費は、各回２５００円） \n６．募集定員　２４名 （申込み最終締切５月１４日）※定員に達した段階で締め切り \n７．講座日程と内容（予定）　　　（※５月から９月、毎月１回木曜日開催。）\n第１回　　　５月２４日　　　　山登りの体づくり、用具や服装について\n第２回　　　６月２１日　　　　山での危険と安全について\n実践登山①　６月２４日（日）　★白鷹山（ペースと持ち物）\n第３回　　　７月１９日　　　　山での食事や給水のしかたについて\n第４回　　　８月２３日　　　　山の天気と天気図の見方について\n第５回　　　９月１３日　　　　地形図の読み方・コンパスの使い方について\n実践登山②　９月１６日（日）　★月山（地図とコンパスの活用）\n※全７回参加者には、「葉っぱ塾」から皆勤賞！を差し上げます。 \n８．参加にあたって　　この講座はこれから登山を始めてみたい方や、我流で始めたけれども、\nしっかり基本を学んでみたいという初心者に向けての講座です。１８歳以上の方であればどなたでも参加いただけます。受講者にはカスカワスポーツさんの割り引き特典もあります。 \n９．問い合わせ・申し込み先　　葉っぱ塾（八木）℡　０９０－５２３０－８８１９\nメール 　happa-fy★dewa.or.jp\n（送信の場合は★を＠に変えてください。） \n \n
URL:https://www.yamagata-npo.jp/event/9177
CATEGORIES:団体主催
ORGANIZER;CN="%E8%91%89%E3%81%A3%E3%81%B1%E5%A1%BE":MAILTO:happa-fy@dewa.or.jp
END:VEVENT
END:VCALENDAR