BEGIN:VCALENDAR
VERSION:2.0
PRODID:-//山形市市民活動支援センター - ECPv4.6.24.1//NONSGML v1.0//EN
CALSCALE:GREGORIAN
METHOD:PUBLISH
X-WR-CALNAME:山形市市民活動支援センター
X-ORIGINAL-URL:https://www.yamagata-npo.jp
X-WR-CALDESC:Events for 山形市市民活動支援センター
BEGIN:VEVENT
DTSTART;VALUE=DATE:20180923
DTEND;VALUE=DATE:20180926
DTSTAMP:20260420T062516
CREATED:20180322T024726Z
LAST-MODIFIED:20180322T024726Z
UID:9358-1537660800-1537919999@www.yamagata-npo.jp
SUMMARY:休館日
DESCRIPTION:
URL:https://www.yamagata-npo.jp/event/9358
CATEGORIES:センター情報
END:VEVENT
END:VCALENDAR