BEGIN:VCALENDAR
VERSION:2.0
PRODID:-//山形市市民活動支援センター - ECPv4.6.24.1//NONSGML v1.0//EN
CALSCALE:GREGORIAN
METHOD:PUBLISH
X-WR-CALNAME:山形市市民活動支援センター
X-ORIGINAL-URL:https://www.yamagata-npo.jp
X-WR-CALDESC:Events for 山形市市民活動支援センター
BEGIN:VEVENT
DTSTART;TZID=Asia/Tokyo:20180910T100000
DTEND;TZID=Asia/Tokyo:20180910T120000
DTSTAMP:20260419T222334
CREATED:20180406T063322Z
LAST-MODIFIED:20180406T063322Z
UID:9852-1536573600-1536580800@www.yamagata-npo.jp
SUMMARY:たまりば★カフェ
DESCRIPTION:チラシはこちらからダウンロードできます（PDFデータ） \n
URL:https://www.yamagata-npo.jp/event/9852
LOCATION:山形市男女共同参画センター「ファーラ」\, 城西町2-2-22\, 山形市\, 山形県\, Japan
GEO:38.2546692;140.3220338
X-APPLE-STRUCTURED-LOCATION;VALUE=URI;X-ADDRESS=山形市男女共同参画センター「ファーラ」 城西町2-2-22 山形市 山形県 Japan;X-APPLE-RADIUS=500;X-TITLE=城西町2-2-22:geo:140.3220338,38.2546692
CATEGORIES:団体主催
ATTACH;FMTTYPE=image/jpeg:https://www.yamagata-npo.jp/wp/wp-content/uploads/2018-tenohira-tamaribacafe-1-1-1-1.jpg
ORGANIZER;CN="%E5%B1%B1%E5%BD%A2%E3%81%A6%E3%81%AE%E3%81%B2%E3%82%89%E6%94%AF%E6%8F%B4%E3%83%8D%E3%83%83%E3%83%88":MAILTO:kodomo.s.raku@gmail.com
END:VEVENT
END:VCALENDAR